BEGIN:VCALENDAR
VERSION:2.0
PRODID:-//David Acera - ECPv6.6.1//NONSGML v1.0//EN
CALSCALE:GREGORIAN
METHOD:PUBLISH
X-ORIGINAL-URL:https://davidacera.com
X-WR-CALDESC:Eventos para David Acera
REFRESH-INTERVAL;VALUE=DURATION:PT1H
X-Robots-Tag:noindex
X-PUBLISHED-TTL:PT1H
BEGIN:VTIMEZONE
TZID:UTC
BEGIN:STANDARD
TZOFFSETFROM:+0000
TZOFFSETTO:+0000
TZNAME:UTC
DTSTART:20240101T000000
END:STANDARD
END:VTIMEZONE
BEGIN:VEVENT
DTSTART;TZID=UTC:20240909T120000
DTEND;TZID=UTC:20240909T130000
DTSTAMP:20260420T231955
CREATED:20240820T091335Z
LAST-MODIFIED:20240820T091335Z
UID:22821-1725883200-1725886800@davidacera.com
SUMMARY:Cuentos Humanos
DESCRIPTION:En colaboración con Amnistía Internacional Asturias.
URL:https://davidacera.com/event/cuentos-humanos/
LOCATION:Mercado Ecológico y Artesano de Gijón\, Pl. Mayor\, Centro\, 33201\, Centro\, 33201 Gijón\, Asturias\, Asturias\, 33201\, España
CATEGORIES:Cuentos humanos
ATTACH;FMTTYPE=image/png:https://davidacera.com/wp-content/uploads/2024/08/Los-Cuentos-de-David-Acera.png
END:VEVENT
END:VCALENDAR